NROWS          7669
NCOLS          6336
NBANDS         1
NBITS          8
BYTEORDER      I
LAYOUT         BSQ
ULXMAP         664229.500
ULYMAP         4207891.500
XDIM           1.000
YDIM           1.000
SKIPBYTES      25344
MAP_UNITS METERS
BANDROWBYTES   6336
TOTALROWBYTES  6336
/* DATUM NAD83
/* PROJECTION_NAME UTM
/* PROJECTION_ZONE 10
/* SOURCE_IMAGE_DATE 1993 5 22
/* DOQ_FILE_NAME nw.hd
/* DOQ_QUAD_NAME PETERS_NW
/* DOQ_STATE CA
