NROWS          7672
NCOLS          6345
NBANDS         1
NBITS          8
BYTEORDER      I
LAYOUT         BSQ
ULXMAP         669862.500
ULYMAP         4201071.500
XDIM           1.000
YDIM           1.000
SKIPBYTES      25380
MAP_UNITS METERS
BANDROWBYTES   6345
TOTALROWBYTES  6345
/* DATUM NAD83
/* PROJECTION_NAME UTM
/* PROJECTION_ZONE 10
/* SOURCE_IMAGE_DATE 1993 5 9
/* DOQ_FILE_NAME se.hd
/* DOQ_QUAD_NAME PETERS_SE
/* DOQ_STATE CA
