NROWS          7669
NCOLS          6340
NBANDS         1
NBITS          8
BYTEORDER      I
LAYOUT         BSQ
ULXMAP         664369.500
ULYMAP         4200955.500
XDIM           1.000
YDIM           1.000
SKIPBYTES      25360
MAP_UNITS METERS
BANDROWBYTES   6340
TOTALROWBYTES  6340
/* DATUM NAD83
/* PROJECTION_NAME UTM
/* PROJECTION_ZONE 10
/* SOURCE_IMAGE_DATE 1993 5 22
/* DOQ_FILE_NAME sw.hd
/* DOQ_QUAD_NAME PETERS_SW
/* DOQ_STATE CA
