NROWS          7661
NCOLS          6345
NBANDS         1
NBITS          8
BYTEORDER      I
LAYOUT         BSQ
ULXMAP         653773.500
ULYMAP         4179929.500
XDIM           1.000
YDIM           1.000
SKIPBYTES      25380
MAP_UNITS METERS
BANDROWBYTES   6345
TOTALROWBYTES  6345
/* DATUM NAD83
/* PROJECTION_NAME UTM
/* PROJECTION_ZONE 10
/* SOURCE_IMAGE_DATE 1993 7 11
/* DOQ_FILE_NAME nw.hd
/* DOQ_QUAD_NAME RIPON_NW
/* DOQ_STATE CA
