NROWS          7668
NCOLS          6353
NBANDS         1
NBITS          8
BYTEORDER      I
LAYOUT         BSQ
ULXMAP         664787.500
ULYMAP         4180149.500
XDIM           1.000
YDIM           1.000
SKIPBYTES      25412
MAP_UNITS METERS
BANDROWBYTES   6353
TOTALROWBYTES  6353
/* DATUM NAD83
/* PROJECTION_NAME UTM
/* PROJECTION_ZONE 10
/* SOURCE_IMAGE_DATE 1993 5 22
/* DOQ_FILE_NAME nw.hd
/* DOQ_QUAD_NAME SALIDA_NW
/* DOQ_STATE CA
