NROWS          7656
NCOLS          6348
NBANDS         1
NBITS          8
BYTEORDER      I
LAYOUT         BSQ
ULXMAP         648517.500
ULYMAP         4165954.500
XDIM           1.000
YDIM           1.000
SKIPBYTES      25392
MAP_UNITS METERS
BANDROWBYTES   6348
TOTALROWBYTES  6348
/* DATUM NAD83
/* PROJECTION_NAME UTM
/* PROJECTION_ZONE 10
/* SOURCE_IMAGE_DATE 1993 5 23
/* DOQ_FILE_NAME ne.hd
/* DOQ_QUAD_NAME SOLYO_NE
/* DOQ_STATE CA
