NROWS          7652
NCOLS          6348
NBANDS         1
NBITS          8
BYTEORDER      I
LAYOUT         BSQ
ULXMAP         643121.500
ULYMAP         4158918.500
XDIM           1.000
YDIM           1.000
SKIPBYTES      25392
MAP_UNITS METERS
BANDROWBYTES   6348
TOTALROWBYTES  6348
/* DATUM NAD83
/* PROJECTION_NAME UTM
/* PROJECTION_ZONE 10
/* SOURCE_IMAGE_DATE 1993 7 11
/* DOQ_FILE_NAME sw.hd
/* DOQ_QUAD_NAME SOLYO_SW
/* DOQ_STATE CA
