NROWS          7649
NCOLS          6321
NBANDS         1
NBITS          8
BYTEORDER      I
LAYOUT         BSQ
ULXMAP         637022.500
ULYMAP         4193495.500
XDIM           1.000
YDIM           1.000
SKIPBYTES      25284
MAP_UNITS METERS
BANDROWBYTES   6321
TOTALROWBYTES  6321
/* DATUM NAD83
/* PROJECTION_NAME UTM
/* PROJECTION_ZONE 10
/* SOURCE_IMAGE_DATE 1993 5 23
/* DOQ_FILE_NAME ne.hd
/* DOQ_QUAD_NAME UNION_ISLAND_NE
/* DOQ_STATE CA
