NROWS          7649
NCOLS          6326
NBANDS         1
NBITS          8
BYTEORDER      I
LAYOUT         BSQ
ULXMAP         637138.500
ULYMAP         4186560.500
XDIM           1.000
YDIM           1.000
SKIPBYTES      25304
MAP_UNITS METERS
BANDROWBYTES   6326
TOTALROWBYTES  6326
/* DATUM NAD83
/* PROJECTION_NAME UTM
/* PROJECTION_ZONE 10
/* SOURCE_IMAGE_DATE 1993 5 23
/* DOQ_FILE_NAME se.hd
/* DOQ_QUAD_NAME UNION_ISLAND_SE
/* DOQ_STATE CA
