NROWS          7653
NCOLS          6335
NBANDS         1
NBITS          8
BYTEORDER      I
LAYOUT         BSQ
ULXMAP         642760.500
ULYMAP         4179723.500
XDIM           1.000
YDIM           1.000
SKIPBYTES      25340
MAP_UNITS METERS
BANDROWBYTES   6335
TOTALROWBYTES  6335
/* DATUM NAD83
/* PROJECTION_NAME UTM
/* PROJECTION_ZONE 10
/* SOURCE_IMAGE_DATE 1993 5 23
/* DOQ_FILE_NAME nw.hd
/* DOQ_QUAD_NAME VERNALIS_NW
/* DOQ_STATE CA
