NROWS          7657
NCOLS          6344
NBANDS         1
NBITS          8
BYTEORDER      I
LAYOUT         BSQ
ULXMAP         648392.500
ULYMAP         4172889.500
XDIM           1.000
YDIM           1.000
SKIPBYTES      25376
MAP_UNITS METERS
BANDROWBYTES   6344
TOTALROWBYTES  6344
/* DATUM NAD83
/* PROJECTION_NAME UTM
/* PROJECTION_ZONE 10
/* SOURCE_IMAGE_DATE 1993 5 23
/* DOQ_FILE_NAME se.hd
/* DOQ_QUAD_NAME VERNALIS_SE
/* DOQ_STATE CA
