NROWS          7653
NCOLS          6339
NBANDS         1
NBITS          8
BYTEORDER      I
LAYOUT         BSQ
ULXMAP         642881.500
ULYMAP         4172788.500
XDIM           1.000
YDIM           1.000
SKIPBYTES      25356
MAP_UNITS METERS
BANDROWBYTES   6339
TOTALROWBYTES  6339
/* DATUM NAD83
/* PROJECTION_NAME UTM
/* PROJECTION_ZONE 10
/* SOURCE_IMAGE_DATE 1993 5 23
/* DOQ_FILE_NAME sw.hd
/* DOQ_QUAD_NAME VERNALIS_SW
/* DOQ_STATE CA
