NROWS          7642
NCOLS          6308
NBANDS         1
NBITS          8
BYTEORDER      I
LAYOUT         BSQ
ULXMAP         625920.500
ULYMAP         4200246.500
XDIM           1.000
YDIM           1.000
SKIPBYTES      25232
MAP_UNITS METERS
BANDROWBYTES   6308
TOTALROWBYTES  6308
/* DATUM NAD83
/* PROJECTION_NAME UTM
/* PROJECTION_ZONE 10
/* SOURCE_IMAGE_DATE 1993 6 15
/* DOQ_FILE_NAME se.hd
/* DOQ_QUAD_NAME WOODWARD_ISLAND_SE
/* DOQ_STATE CA
