NROWS          7638
NCOLS          6303
NBANDS         1
NBITS          8
BYTEORDER      I
LAYOUT         BSQ
ULXMAP         620428.500
ULYMAP         4200159.500
XDIM           1.000
YDIM           1.000
SKIPBYTES      25212
MAP_UNITS METERS
BANDROWBYTES   6303
TOTALROWBYTES  6303
/* DATUM NAD83
/* PROJECTION_NAME UTM
/* PROJECTION_ZONE 10
/* SOURCE_IMAGE_DATE 1993 6 15
/* DOQ_FILE_NAME sw.hd
/* DOQ_QUAD_NAME WOODWARD_ISLAND_SW
/* DOQ_STATE CA
