1.52842378969212
0.00000000000000
0.00000000000000
-1.52842378969212
-112674.73500138061354
-153376.86272723486763
