1.53089691221887
0.00000000000000
0.00000000000000
-1.53089691221887
-112351.13915143036866
-139549.84167163365055
