1.52860847764762
0.00000000000000
0.00000000000000
-1.52860847764762
-145302.62266564855236
-111276.09309039372602
