1.52778160730887
0.00000000000000
0.00000000000000
-1.52778160730887
-146159.51217375838314
-152874.29006325299270
