1.53002511666087
0.00000000000000
0.00000000000000
-1.53002511666087
-134799.11663366449648
-153176.90101941121975
