1.52877579200269
0.00000000000000
0.00000000000000
-1.52877579200269
-134359.32250501908129
-125353.54503932841180
