1.52953476669802
0.00000000000000
0.00000000000000
-1.52953476669802
-100957.11107413837453
-111766.41468286358577
