1.52810310727777
0.00000000000000
0.00000000000000
-1.52810310727777
-168037.51050109637436
-138669.22123780191760
