1.52868633031500
0.00000000000000
0.00000000000000
-1.52868633031500
-111987.78714613858028
-111800.83761958741525
