1.52699303496931
0.00000000000000
0.00000000000000
-1.52699303496931
-179427.87258075433783
-149981.52242424045107
