1.52497593159612
0.00000000000000
0.00000000000000
-1.52497593159612
-167698.31139918626286
-124784.76577668038954
