1.52921289476929
0.00000000000000
0.00000000000000
-1.52921289476929
-123839.41923543564917
-153359.97410412129830
