1.52795150257210
0.00000000000000
0.00000000000000
-1.52795150257210
-145710.30821235218900
-139033.17982699064305
