1.52762202409953
0.00000000000000
0.00000000000000
-1.52762202409953
-123333.93878387680161
-139349.36301252301200
