1.52953255602064
0.00000000000000
0.00000000000000
-1.52953255602064
-101543.21053680623299
-139564.90033629140817
