1.52796965807079
0.00000000000000
0.00000000000000
-1.52796965807079
-156790.53593493698281
-125028.10572065554152
