1.52818089619674
0.00000000000000
0.00000000000000
-1.52818089619674
-112159.82130941822834
-125618.07100036034535
