1.52928143976987
0.00000000000000
0.00000000000000
-1.52928143976987
-101035.36734148096002
-125707.22182871570112
