1.52764083880778
0.00000000000000
0.00000000000000
-1.52764083880778
-156875.76957021627459
-138870.98009586700937
