1.52897561679498
0.00000000000000
0.00000000000000
-1.52897561679498
-101382.85475417581620
-153603.47755760600558
