1.52862739380215
0.00000000000000
0.00000000000000
-1.52862739380215
-134401.97302715730621
-111421.57125723868376
