1.52775729334847
0.00000000000000
0.00000000000000
-1.52775729334847
-145646.20428263908252
-125097.88232606087695
