1.52859710729756
0.00000000000000
0.00000000000000
-1.52859710729756
-168530.30449112955830
-152509.19068936537951
