1.52581168014509
0.00000000000000
0.00000000000000
-1.52581168014509
-178501.28672938336967
-110756.08932479265786
