1.52766122157256
0.00000000000000
0.00000000000000
-1.52766122157256
-157159.64443762367591
-152745.37185952503933
