1.52947721189992
0.00000000000000
0.00000000000000
-1.52947721189992
-123345.75687450672558
-111531.20536673381866
