1.52724483343375
0.00000000000000
0.00000000000000
-1.52724483343375
-156411.72901260203798
-111172.00739848423109
