1.52994194842051
0.00000000000000
0.00000000000000
-1.52994194842051
-167162.03241295847693
-111002.76247853765381
