1.52798022181641
0.00000000000000
0.00000000000000
-1.52798022181641
-124691.32256300888548
-208666.57756785882520
