1.52756762382864
0.00000000000000
0.00000000000000
-1.52756762382864
-169311.95271929903538
-180249.05819339567097
