1.52697377346639
0.00000000000000
0.00000000000000
-1.52697377346639
-157357.89360949848196
-166663.80347831352265
