1.52938589753485
0.00000000000000
0.00000000000000
-1.52938589753485
-146537.09902171764406
-180698.47875412009307
