1.52732579648782
0.00000000000000
0.00000000000000
-1.52732579648782
-135792.07719281839672
-208679.92619871211355
