1.52738143164546
0.00000000000000
0.00000000000000
-1.52738143164546
-113274.92529666959308
-209050.30816258591949
