1.53012951006775
0.00000000000000
0.00000000000000
-1.53012951006775
-102045.87704712104460
-209090.62087841570610
