1.52777703544865
0.00000000000000
0.00000000000000
-1.52777703544865
-112850.04350276714831
-181252.82241764711216
